BEGIN:VCALENDAR
VERSION:2.0
PRODID:-//holthusconventioncenter.com//NONSGML kigkonsult.se iCalcreator 2.
 30.10//
CALSCALE:GREGORIAN
METHOD:PUBLISH
UID:a9514fcd-0b33-493b-aebb-be2552f4c08a
X-WR-CALDESC:
X-WR-RELCALID:3a3333042997de2f60f3cae3d5a0319f
X-WR-TIMEZONE:America/Chicago
BEGIN:VTIMEZONE
TZID:America/Chicago
BEGIN:STANDARD
TZNAME:CST
DTSTART:20231105T020000
TZOFFSETFROM:-0500
TZOFFSETTO:-0600
RDATE:20241103T020000
END:STANDARD
BEGIN:DAYLIGHT
TZNAME:CDT
DTSTART:20240310T020000
TZOFFSETFROM:-0600
TZOFFSETTO:-0500
RDATE:20250309T020000
END:DAYLIGHT
END:VTIMEZONE
BEGIN:VEVENT
UID:6eea8fbe-e16e-4d18-9e26-6fa2d9418baa
DTSTAMP:20260422T081232Z
DESCRIPTION:
DTSTART;TZID=America/Chicago:20240414T140000
DTEND;TZID=America/Chicago:20240414T170000
LOCATION:
SUMMARY:Private Event (Meeting Room I)
END:VEVENT
END:VCALENDAR
