BEGIN:VCALENDAR
VERSION:2.0
PRODID:-//holthusconventioncenter.com//NONSGML kigkonsult.se iCalcreator 2.
 30.10//
CALSCALE:GREGORIAN
METHOD:PUBLISH
UID:d6c3a8cb-a217-4692-810b-0ce2cb678fa9
X-WR-CALDESC:
X-WR-RELCALID:2001a09612f2b987b2d80925e9f00ad7
X-WR-TIMEZONE:America/Chicago
BEGIN:VTIMEZONE
TZID:America/Chicago
BEGIN:STANDARD
TZNAME:CST
DTSTART:20231105T020000
TZOFFSETFROM:-0500
TZOFFSETTO:-0600
RDATE:20241103T020000
RDATE:20251102T020000
END:STANDARD
BEGIN:DAYLIGHT
TZNAME:CDT
DTSTART:20240310T020000
TZOFFSETFROM:-0600
TZOFFSETTO:-0500
RDATE:20250309T020000
RDATE:20260308T020000
END:DAYLIGHT
END:VTIMEZONE
BEGIN:VEVENT
UID:613600e7-ee4f-44d7-8312-a95ad218aeff
DTSTAMP:20260424T140336Z
DESCRIPTION:
DTSTART;TZID=America/Chicago:20241024T090000
DTEND;TZID=America/Chicago:20241025T233000
LOCATION:
SUMMARY:Private Event (Entire Facility)
END:VEVENT
END:VCALENDAR
