BEGIN:VCALENDAR
VERSION:2.0
PRODID:-//holthusconventioncenter.com//NONSGML kigkonsult.se iCalcreator 2.
 30.10//
CALSCALE:GREGORIAN
METHOD:PUBLISH
UID:aaceb4d1-b08c-437d-8da2-fb3c4c671e91
X-WR-CALDESC:We are looking for any type of equipment\, machinery\, cars\, 
 trucks\, tractors\, motorcycles\, combines\, buses\, tow trucks\, semi-tru
 cks\, cable trucks\, ups/mail trucks\, garbage trucks\, golf carts\, fire 
 trucks\, ambulances\, dump trucks\, front loaders\, sprayers\, bob cats\, 
 army trucks\, snow plows\, excavators\, mail trucks\, police/sheriff/state
  patrol cars and any other transportation. Not only will the kids have the
  chance to check out all the equipment\, but you can use this event as a l
 earning opportunity for the kids! \n\nWe strongly encourage businesses to 
 provide safety information\, along with giveaways (stickers\, construction
  hats\, cones\, coloring pages\, etc.) to make the event even more fun and
  educational.\n\nParticipation Fee: $25 \nParticipation fees will help cov
 er promotional costs for this event (Newspaper\, posters\, digital\, etc.)
 . Participating businesses/organizations will be listed on our Facebook ev
 ent page.  We encourage you to display business banners/promotional items 
 with your equipment. \n\nProof of Insurance: As we all know\, accidents ha
 ppen\, so we request that during the event\, your equipment is supervised 
 and a proof of insurance is provided before the event.
X-WR-RELCALID:6bd74ab54a9a68863ae2340d91409743
X-WR-TIMEZONE:America/Chicago
BEGIN:VTIMEZONE
TZID:America/Chicago
BEGIN:STANDARD
TZNAME:CST
DTSTART:20241103T020000
TZOFFSETFROM:-0500
TZOFFSETTO:-0600
RDATE:20251102T020000
RDATE:20261101T020000
END:STANDARD
BEGIN:DAYLIGHT
TZNAME:CDT
DTSTART:20250309T020000
TZOFFSETFROM:-0600
TZOFFSETTO:-0500
RDATE:20260308T020000
END:DAYLIGHT
END:VTIMEZONE
BEGIN:VEVENT
UID:4dd3787e-8379-4e8f-810e-a7e199537ddc
DTSTAMP:20260421T133611Z
DESCRIPTION:We are looking for any type of equipment\, machinery\, cars\, t
 rucks\, tractors\, motorcycles\, combines\, buses\, tow trucks\, semi-truc
 ks\, cable trucks\, ups/mail trucks\, garbage trucks\, golf carts\, fire t
 rucks\, ambulances\, dump trucks\, front loaders\, sprayers\, bob cats\, a
 rmy trucks\, snow plows\, excavators\, mail trucks\, police/sheriff/state 
 patrol cars and any other transportation. Not only will the kids have the 
 chance to check out all the equipment\, but you can use this event as a le
 arning opportunity for the kids! \n\nWe strongly encourage businesses to p
 rovide safety information\, along with giveaways (stickers\, construction 
 hats\, cones\, coloring pages\, etc.) to make the event even more fun and 
 educational.\n\nParticipation Fee: $25 \nParticipation fees will help cove
 r promotional costs for this event (Newspaper\, posters\, digital\, etc.).
  Participating businesses/organizations will be listed on our Facebook eve
 nt page.  We encourage you to display business banners/promotional items w
 ith your equipment. \n\nProof of Insurance: As we all know\, accidents hap
 pen\, so we request that during the event\, your equipment is supervised a
 nd a proof of insurance is provided before the event.
DTSTART;TZID=America/Chicago:20250719T090000
DTEND;TZID=America/Chicago:20250719T120000
LOCATION:3130 Holen Avenue\, York\, NE 68467 US
SUMMARY:Transportation Exploration
END:VEVENT
END:VCALENDAR
